BEGIN:VCALENDAR
CALSCALE:GREGORIAN
VERSION:2.0
METHOD:PUBLISH
PRODID:-//mototsporth2o.se//motorsporth2o.se//SE
BEGIN:VEVENT
CREATED:20260421T123208Z
UID:3a518888-b4c6-4257-a4e1-7a780c040b4b@motorsporth2o.se
SUMMARY:Smögen Offshore Race 2019
LOCATION:Smögen/Kungshamn, Sweden
DESCRIPTION:Smögen Offshore Race 2019
DTSTART;TZID=Europe/Stockholm:20190719T080000
DTEND;TZID=Europe/Stockholm:20190720T200000
END:VEVENT
END:VCALENDAR
